Package: lemur Version: 1.2.0 Command: rm -rf lemur.buildbin-libdir && mkdir lemur.buildbin-libdir && /Users/biocbuild/BBS/utils/build-universal.sh lemur_1.2.0.tar.gz /Library/Frameworks/R.framework/Resources/bin/R lemur.buildbin-libdir StartedAt: 2024-06-11 11:48:53 -0400 (Tue, 11 Jun 2024) EndedAt: 2024-06-11 11:50:03 -0400 (Tue, 11 Jun 2024) EllapsedTime: 69.9 seconds RetCode: 0 Status: OK PackageFile: lemur_1.2.0.tgz PackageFileSize: 3.826 MiB