Package: lemur Version: 1.2.0 Command: /Library/Frameworks/R.framework/Resources/bin/R CMD INSTALL lemur StartedAt: 2024-10-16 16:24:20 -0400 (Wed, 16 Oct 2024) EndedAt: 2024-10-16 16:25:03 -0400 (Wed, 16 Oct 2024) EllapsedTime: 42.3 seconds RetCode: 0 Status: OK