Package: lemur Version: 1.2.0 Command: /Library/Frameworks/R.framework/Resources/bin/R CMD check --install=check:lemur.install-out.txt --library=/Library/Frameworks/R.framework/Resources/library --no-vignettes --timings lemur_1.2.0.tar.gz StartedAt: 2024-10-18 02:04:03 -0400 (Fri, 18 Oct 2024) EndedAt: 2024-10-18 02:09:48 -0400 (Fri, 18 Oct 2024) EllapsedTime: 344.7 seconds RetCode: 0 Status: OK CheckDir: lemur.Rcheck Warnings: 0