Package: lefser Version: 1.14.0 Command: /Library/Frameworks/R.framework/Resources/bin/R CMD build --keep-empty-dirs --no-resave-data lefser StartedAt: 2024-10-16 20:22:58 -0400 (Wed, 16 Oct 2024) EndedAt: 2024-10-16 20:24:58 -0400 (Wed, 16 Oct 2024) EllapsedTime: 119.4 seconds RetCode: 0 Status: OK PackageFile: lefser_1.14.0.tar.gz PackageFileSize: 703.1 KiB