Package: lefser Version: 1.14.0 Command: /home/biocbuild/R/R-beta-2024-04-15_r86425/bin/R CMD build --keep-empty-dirs --no-resave-data lefser StartedAt: 2024-05-09 01:15:18 -0000 (Thu, 09 May 2024) EndedAt: 2024-05-09 01:16:23 -0000 (Thu, 09 May 2024) EllapsedTime: 65.1 seconds RetCode: 0 Status: OK PackageFile: lefser_1.14.0.tar.gz PackageFileSize: 579.9 KiB