Package: ldblock Version: 1.34.0 Command: /home/biocbuild/bbs-3.19-bioc/R/bin/R CMD INSTALL ldblock StartedAt: 2024-10-16 15:53:47 -0400 (Wed, 16 Oct 2024) EndedAt: 2024-10-16 15:53:54 -0400 (Wed, 16 Oct 2024) EllapsedTime: 6.6 seconds RetCode: 0 Status: OK