Package: ldblock Version: 1.34.0 Command: /Library/Frameworks/R.framework/Resources/bin/R CMD build --keep-empty-dirs --no-resave-data ldblock StartedAt: 2024-10-16 20:22:37 -0400 (Wed, 16 Oct 2024) EndedAt: 2024-10-16 20:24:30 -0400 (Wed, 16 Oct 2024) EllapsedTime: 113.0 seconds RetCode: 0 Status: OK PackageFile: ldblock_1.34.0.tar.gz PackageFileSize: 40.13 MiB