Package: ldblock Version: 1.34.0 Command: /Library/Frameworks/R.framework/Resources/bin/R CMD check --install=check:ldblock.install-out.txt --library=/Library/Frameworks/R.framework/Resources/library --no-vignettes --timings ldblock_1.34.0.tar.gz StartedAt: 2024-10-18 02:01:55 -0400 (Fri, 18 Oct 2024) EndedAt: 2024-10-18 02:03:41 -0400 (Fri, 18 Oct 2024) EllapsedTime: 105.6 seconds RetCode: 0 Status: OK CheckDir: ldblock.Rcheck Warnings: 0