Package: ldblock Version: 1.34.0 Command: /Library/Frameworks/R.framework/Resources/bin/R CMD build --keep-empty-dirs --no-resave-data ldblock StartedAt: 2024-10-17 03:12:28 -0400 (Thu, 17 Oct 2024) EndedAt: 2024-10-17 03:13:30 -0400 (Thu, 17 Oct 2024) EllapsedTime: 61.9 seconds RetCode: 0 Status: OK PackageFile: ldblock_1.34.0.tar.gz PackageFileSize: 40.13 MiB