Package: ldblock Version: 1.34.0 Command: rm -rf ldblock.buildbin-libdir && mkdir ldblock.buildbin-libdir && /Users/biocbuild/BBS/utils/build-universal.sh ldblock_1.34.0.tar.gz /Library/Frameworks/R.framework/Resources/bin/R ldblock.buildbin-libdir StartedAt: 2024-10-18 19:08:57 -0400 (Fri, 18 Oct 2024) EndedAt: 2024-10-18 19:09:14 -0400 (Fri, 18 Oct 2024) EllapsedTime: 16.9 seconds RetCode: 0 Status: OK PackageFile: ldblock_1.34.0.tgz PackageFileSize: 40.29 MiB