Package: ldblock Version: 1.34.0 Maintainer: VJ Carey MaintainerEmail: stvjc at channing.harvard.edu git_url: https://git.bioconductor.org/packages/ldblock git_branch: RELEASE_3_19 git_last_commit: 341462b git_last_commit_date: 2024-04-30 10:45:24 -0400 (Tue, 30 Apr 2024)