Package: lapmix Version: 1.70.0 Command: E:\biocbuild\bbs-3.19-bioc\R\bin\R.exe CMD INSTALL lapmix StartedAt: 2024-10-16 16:04:24 -0400 (Wed, 16 Oct 2024) EndedAt: 2024-10-16 16:04:30 -0400 (Wed, 16 Oct 2024) EllapsedTime: 6.4 seconds RetCode: 0 Status: OK