Package: lapmix Version: 1.70.0 Command: /Library/Frameworks/R.framework/Resources/bin/R CMD check --install=check:lapmix.install-out.txt --library=/Library/Frameworks/R.framework/Resources/library --no-vignettes --timings lapmix_1.70.0.tar.gz StartedAt: 2024-10-18 02:00:55 -0400 (Fri, 18 Oct 2024) EndedAt: 2024-10-18 02:01:28 -0400 (Fri, 18 Oct 2024) EllapsedTime: 32.6 seconds RetCode: 0 Status: OK CheckDir: lapmix.Rcheck Warnings: 0