Package: knowYourCG Version: 1.0.0 Command: rm -rf knowYourCG.buildbin-libdir && mkdir knowYourCG.buildbin-libdir && E:\biocbuild\bbs-3.19-bioc\R\bin\R.exe CMD INSTALL --build --library=knowYourCG.buildbin-libdir knowYourCG_1.0.0.tar.gz StartedAt: 2024-10-17 08:02:04 -0400 (Thu, 17 Oct 2024) EndedAt: 2024-10-17 08:02:29 -0400 (Thu, 17 Oct 2024) EllapsedTime: 25.1 seconds RetCode: 0 Status: OK PackageFile: knowYourCG_1.0.0.zip PackageFileSize: 1.108 MiB