Package: knowYourCG Version: 1.0.0 Command: /home/biocbuild/bbs-3.19-bioc/R/bin/R CMD INSTALL knowYourCG StartedAt: 2024-10-16 16:06:21 -0400 (Wed, 16 Oct 2024) EndedAt: 2024-10-16 16:06:38 -0400 (Wed, 16 Oct 2024) EllapsedTime: 17.1 seconds RetCode: 0 Status: OK