Package: knowYourCG Version: 1.0.0 Command: /Library/Frameworks/R.framework/Resources/bin/R CMD check --install=check:knowYourCG.install-out.txt --library=/Library/Frameworks/R.framework/Resources/library --no-vignettes --timings knowYourCG_1.0.0.tar.gz StartedAt: 2024-10-17 07:20:34 -0400 (Thu, 17 Oct 2024) EndedAt: 2024-10-17 07:28:58 -0400 (Thu, 17 Oct 2024) EllapsedTime: 503.9 seconds RetCode: 0 Status: OK CheckDir: knowYourCG.Rcheck Warnings: 0