Package: knowYourCG Version: 1.0.0 Command: rm -rf knowYourCG.buildbin-libdir && mkdir knowYourCG.buildbin-libdir && /Users/biocbuild/BBS/utils/build-universal.sh knowYourCG_1.0.0.tar.gz /Library/Frameworks/R.framework/Resources/bin/R knowYourCG.buildbin-libdir StartedAt: 2024-06-11 11:48:08 -0400 (Tue, 11 Jun 2024) EndedAt: 2024-06-11 11:48:46 -0400 (Tue, 11 Jun 2024) EllapsedTime: 38.1 seconds RetCode: 0 Status: OK PackageFile: knowYourCG_1.0.0.tgz PackageFileSize: 1.096 MiB