Package: kissDE Version: 1.24.0 Command: chmod a+r kissDE -R && E:\biocbuild\bbs-3.19-bioc\R\bin\R.exe CMD build --keep-empty-dirs --no-resave-data kissDE StartedAt: 2024-10-16 19:57:37 -0400 (Wed, 16 Oct 2024) EndedAt: 2024-10-16 19:59:52 -0400 (Wed, 16 Oct 2024) EllapsedTime: 135.0 seconds RetCode: 0 Status: OK PackageFile: kissDE_1.24.0.tar.gz PackageFileSize: 860.9 KiB