Package: kissDE Version: 1.24.0 Command: rm -rf kissDE.buildbin-libdir && mkdir kissDE.buildbin-libdir && E:\biocbuild\bbs-3.19-bioc\R\bin\R.exe CMD INSTALL --build --library=kissDE.buildbin-libdir kissDE_1.24.0.tar.gz StartedAt: 2024-10-17 08:02:00 -0400 (Thu, 17 Oct 2024) EndedAt: 2024-10-17 08:02:52 -0400 (Thu, 17 Oct 2024) EllapsedTime: 51.4 seconds RetCode: 0 Status: OK PackageFile: kissDE_1.24.0.zip PackageFileSize: 777.6 KiB