Package: kissDE Version: 1.24.0 Command: chmod a+r kissDE -R && F:\biocbuild\bbs-3.19-bioc\R\bin\R.exe CMD build --keep-empty-dirs --no-resave-data kissDE StartedAt: 2024-06-26 19:42:49 -0400 (Wed, 26 Jun 2024) EndedAt: 2024-06-26 19:45:14 -0400 (Wed, 26 Jun 2024) EllapsedTime: 145.1 seconds RetCode: 0 Status: OK PackageFile: kissDE_1.24.0.tar.gz PackageFileSize: 860.5 KiB