Package: kissDE Version: 1.24.0 Command: /home/biocbuild/bbs-3.19-bioc/R/bin/R CMD build --keep-empty-dirs --no-resave-data kissDE StartedAt: 2024-10-16 19:10:44 -0400 (Wed, 16 Oct 2024) EndedAt: 2024-10-16 19:12:35 -0400 (Wed, 16 Oct 2024) EllapsedTime: 110.3 seconds RetCode: 0 Status: OK PackageFile: kissDE_1.24.0.tar.gz PackageFileSize: 855.6 KiB