Package: kissDE Version: 1.24.0 Command: /Library/Frameworks/R.framework/Resources/bin/R CMD INSTALL kissDE StartedAt: 2024-10-16 16:49:30 -0400 (Wed, 16 Oct 2024) EndedAt: 2024-10-16 16:51:06 -0400 (Wed, 16 Oct 2024) EllapsedTime: 95.3 seconds RetCode: 0 Status: OK