Package: kissDE Version: 1.24.0 Command: /Library/Frameworks/R.framework/Resources/bin/R CMD build --keep-empty-dirs --no-resave-data kissDE StartedAt: 2024-10-16 20:21:58 -0400 (Wed, 16 Oct 2024) EndedAt: 2024-10-16 20:26:47 -0400 (Wed, 16 Oct 2024) EllapsedTime: 288.5 seconds RetCode: 0 Status: OK PackageFile: kissDE_1.24.0.tar.gz PackageFileSize: 855.1 KiB