Package: kissDE Version: 1.24.0 Command: rm -rf kissDE.buildbin-libdir && mkdir kissDE.buildbin-libdir && /Users/biocbuild/BBS/utils/build-universal.sh kissDE_1.24.0.tar.gz /Library/Frameworks/R.framework/Resources/bin/R kissDE.buildbin-libdir StartedAt: 2024-10-17 16:27:50 -0400 (Thu, 17 Oct 2024) EndedAt: 2024-10-17 16:29:30 -0400 (Thu, 17 Oct 2024) EllapsedTime: 100.8 seconds RetCode: 0 Status: OK PackageFile: kissDE_1.24.0.tgz PackageFileSize: 774.5 KiB