Package: kissDE Version: 1.24.0 Command: rm -rf kissDE.buildbin-libdir && mkdir kissDE.buildbin-libdir && /Users/biocbuild/BBS/utils/build-universal.sh kissDE_1.24.0.tar.gz /Library/Frameworks/R.framework/Resources/bin/R kissDE.buildbin-libdir StartedAt: 2024-06-10 00:24:20 -0400 (Mon, 10 Jun 2024) EndedAt: 2024-06-10 00:25:18 -0400 (Mon, 10 Jun 2024) EllapsedTime: 57.6 seconds RetCode: 0 Status: OK PackageFile: kissDE_1.24.0.tgz PackageFileSize: 774.2 KiB