Package: kissDE Version: 1.24.0 Command: /home/biocbuild/R/R-beta-2024-04-15_r86425/bin/R CMD build --keep-empty-dirs --no-resave-data kissDE StartedAt: 2024-05-09 01:14:36 -0000 (Thu, 09 May 2024) EndedAt: 2024-05-09 01:17:06 -0000 (Thu, 09 May 2024) EllapsedTime: 150.2 seconds RetCode: 0 Status: OK PackageFile: kissDE_1.24.0.tar.gz PackageFileSize: 851.7 KiB