Package: kissDE Version: 1.24.0 Command: /Library/Frameworks/R.framework/Resources/bin/R CMD INSTALL kissDE StartedAt: 2024-10-16 18:56:04 -0400 (Wed, 16 Oct 2024) EndedAt: 2024-10-16 18:56:55 -0400 (Wed, 16 Oct 2024) EllapsedTime: 50.9 seconds RetCode: 0 Status: OK