Package: kissDE Version: 1.24.0 Command: /Library/Frameworks/R.framework/Resources/bin/R CMD check --install=check:kissDE.install-out.txt --library=/Library/Frameworks/R.framework/Resources/library --no-vignettes --timings kissDE_1.24.0.tar.gz StartedAt: 2024-10-18 01:58:30 -0400 (Fri, 18 Oct 2024) EndedAt: 2024-10-18 02:06:07 -0400 (Fri, 18 Oct 2024) EllapsedTime: 457.0 seconds RetCode: 0 Status: OK CheckDir: kissDE.Rcheck Warnings: 0