Package: kissDE Version: 1.24.0 Command: /Library/Frameworks/R.framework/Resources/bin/R CMD build --keep-empty-dirs --no-resave-data kissDE StartedAt: 2024-10-17 03:10:24 -0400 (Thu, 17 Oct 2024) EndedAt: 2024-10-17 03:12:52 -0400 (Thu, 17 Oct 2024) EllapsedTime: 148.0 seconds RetCode: 0 Status: OK PackageFile: kissDE_1.24.0.tar.gz PackageFileSize: 854.9 KiB