Package: kissDE Version: 1.24.0 Command: rm -rf kissDE.buildbin-libdir && mkdir kissDE.buildbin-libdir && /Users/biocbuild/BBS/utils/build-universal.sh kissDE_1.24.0.tar.gz /Library/Frameworks/R.framework/Resources/bin/R kissDE.buildbin-libdir StartedAt: 2024-10-18 19:08:10 -0400 (Fri, 18 Oct 2024) EndedAt: 2024-10-18 19:09:12 -0400 (Fri, 18 Oct 2024) EllapsedTime: 62.1 seconds RetCode: 0 Status: OK PackageFile: kissDE_1.24.0.tgz PackageFileSize: 774.4 KiB