Package: kebabs Version: 1.38.0 Command: E:\biocbuild\bbs-3.19-bioc\R\bin\R.exe CMD INSTALL kebabs StartedAt: 2024-10-16 16:13:11 -0400 (Wed, 16 Oct 2024) EndedAt: 2024-10-16 16:15:37 -0400 (Wed, 16 Oct 2024) EllapsedTime: 145.9 seconds RetCode: 0 Status: OK