Package: kebabs Version: 1.38.0 Command: F:\biocbuild\bbs-3.19-bioc\R\bin\R.exe CMD INSTALL kebabs StartedAt: 2024-06-26 15:50:29 -0400 (Wed, 26 Jun 2024) EndedAt: 2024-06-26 15:53:29 -0400 (Wed, 26 Jun 2024) EllapsedTime: 179.8 seconds RetCode: 0 Status: OK