Package: kebabs Version: 1.38.0 Command: /home/biocbuild/R/R-beta-2024-04-15_r86425/bin/R CMD INSTALL kebabs StartedAt: 2024-05-08 20:12:23 -0000 (Wed, 08 May 2024) EndedAt: 2024-05-08 20:15:27 -0000 (Wed, 08 May 2024) EllapsedTime: 184.4 seconds RetCode: 0 Status: OK