Package: kebabs Version: 1.38.0 Command: /Library/Frameworks/R.framework/Resources/bin/R CMD INSTALL kebabs StartedAt: 2024-06-09 15:18:22 -0400 (Sun, 09 Jun 2024) EndedAt: 2024-06-09 15:20:15 -0400 (Sun, 09 Jun 2024) EllapsedTime: 112.3 seconds RetCode: 0 Status: OK