Package: kebabs Version: 1.38.0 Command: /Library/Frameworks/R.framework/Resources/bin/R CMD check --install=check:kebabs.install-out.txt --library=/Library/Frameworks/R.framework/Resources/library --no-vignettes --timings kebabs_1.38.0.tar.gz StartedAt: 2024-10-18 01:55:13 -0400 (Fri, 18 Oct 2024) EndedAt: 2024-10-18 01:58:45 -0400 (Fri, 18 Oct 2024) EllapsedTime: 211.4 seconds RetCode: 0 Status: OK CheckDir: kebabs.Rcheck Warnings: 0