Package: kebabs Version: 1.38.0 Command: rm -rf kebabs.buildbin-libdir && mkdir kebabs.buildbin-libdir && /Users/biocbuild/BBS/utils/build-universal.sh kebabs_1.38.0.tar.gz /Library/Frameworks/R.framework/Resources/bin/R kebabs.buildbin-libdir StartedAt: 2024-10-18 19:07:26 -0400 (Fri, 18 Oct 2024) EndedAt: 2024-10-18 19:09:17 -0400 (Fri, 18 Oct 2024) EllapsedTime: 111.1 seconds RetCode: 0 Status: OK PackageFile: kebabs_1.38.0.tgz PackageFileSize: 3.644 MiB