Package: karyoploteR Version: 1.30.0 Command: E:\biocbuild\bbs-3.19-bioc\R\bin\R.exe CMD INSTALL karyoploteR StartedAt: 2024-10-16 16:45:38 -0400 (Wed, 16 Oct 2024) EndedAt: 2024-10-16 16:47:00 -0400 (Wed, 16 Oct 2024) EllapsedTime: 82.1 seconds RetCode: 0 Status: OK