Package: karyoploteR Version: 1.30.0 Command: /home/biocbuild/bbs-3.19-bioc/R/bin/R CMD INSTALL karyoploteR StartedAt: 2024-10-16 16:19:59 -0400 (Wed, 16 Oct 2024) EndedAt: 2024-10-16 16:20:52 -0400 (Wed, 16 Oct 2024) EllapsedTime: 53.1 seconds RetCode: 0 Status: OK