Package: karyoploteR Version: 1.30.0 Command: /Library/Frameworks/R.framework/Resources/bin/R CMD build --keep-empty-dirs --no-resave-data karyoploteR StartedAt: 2024-10-16 20:20:19 -0400 (Wed, 16 Oct 2024) EndedAt: 2024-10-16 20:24:02 -0400 (Wed, 16 Oct 2024) EllapsedTime: 222.6 seconds RetCode: 0 Status: OK PackageFile: karyoploteR_1.30.0.tar.gz PackageFileSize: 2.591 MiB