Package: karyoploteR Version: 1.30.0 Command: rm -rf karyoploteR.buildbin-libdir && mkdir karyoploteR.buildbin-libdir && /Users/biocbuild/BBS/utils/build-universal.sh karyoploteR_1.30.0.tar.gz /Library/Frameworks/R.framework/Resources/bin/R karyoploteR.buildbin-libdir StartedAt: 2024-06-10 00:24:06 -0400 (Mon, 10 Jun 2024) EndedAt: 2024-06-10 00:25:21 -0400 (Mon, 10 Jun 2024) EllapsedTime: 75.4 seconds RetCode: 0 Status: OK PackageFile: karyoploteR_1.30.0.tgz PackageFileSize: 2.48 MiB