Package: karyoploteR Version: 1.30.0 Command: /home/biocbuild/R/R-beta-2024-04-15_r86425/bin/R CMD check --install=check:karyoploteR.install-out.txt --library=/home/biocbuild/R/R-beta-2024-04-15_r86425/site-library --no-vignettes --timings karyoploteR_1.30.0.tar.gz StartedAt: 2024-05-09 08:46:48 -0000 (Thu, 09 May 2024) EndedAt: 2024-05-09 08:57:27 -0000 (Thu, 09 May 2024) EllapsedTime: 639.3 seconds RetCode: 0 Status: OK CheckDir: karyoploteR.Rcheck Warnings: 0