Package: karyoploteR Version: 1.30.0 Command: /home/biocbuild/R/R-beta-2024-04-15_r86425/bin/R CMD build --keep-empty-dirs --no-resave-data karyoploteR StartedAt: 2024-05-09 01:12:51 -0000 (Thu, 09 May 2024) EndedAt: 2024-05-09 01:14:53 -0000 (Thu, 09 May 2024) EllapsedTime: 122.2 seconds RetCode: 0 Status: OK PackageFile: karyoploteR_1.30.0.tar.gz PackageFileSize: 1.755 MiB