Package: karyoploteR Version: 1.30.0 Command: /Library/Frameworks/R.framework/Resources/bin/R CMD INSTALL karyoploteR StartedAt: 2024-06-09 16:23:15 -0400 (Sun, 09 Jun 2024) EndedAt: 2024-06-09 16:24:45 -0400 (Sun, 09 Jun 2024) EllapsedTime: 89.9 seconds RetCode: 0 Status: OK