Package: karyoploteR Version: 1.30.0 Command: /Library/Frameworks/R.framework/Resources/bin/R CMD INSTALL karyoploteR StartedAt: 2024-10-16 17:19:39 -0400 (Wed, 16 Oct 2024) EndedAt: 2024-10-16 17:20:45 -0400 (Wed, 16 Oct 2024) EllapsedTime: 66.5 seconds RetCode: 0 Status: OK