Package: karyoploteR Version: 1.30.0 Command: rm -rf karyoploteR.buildbin-libdir && mkdir karyoploteR.buildbin-libdir && /Users/biocbuild/BBS/utils/build-universal.sh karyoploteR_1.30.0.tar.gz /Library/Frameworks/R.framework/Resources/bin/R karyoploteR.buildbin-libdir StartedAt: 2024-10-18 19:07:06 -0400 (Fri, 18 Oct 2024) EndedAt: 2024-10-18 19:08:30 -0400 (Fri, 18 Oct 2024) EllapsedTime: 84.2 seconds RetCode: 0 Status: OK PackageFile: karyoploteR_1.30.0.tgz PackageFileSize: 2.465 MiB