Package: ivygapSE Version: 1.26.0 Command: E:\biocbuild\bbs-3.19-bioc\R\bin\R.exe CMD INSTALL ivygapSE StartedAt: 2024-10-16 17:18:49 -0400 (Wed, 16 Oct 2024) EndedAt: 2024-10-16 17:19:18 -0400 (Wed, 16 Oct 2024) EllapsedTime: 28.9 seconds RetCode: 0 Status: OK