Package: ivygapSE Version: 1.26.0 Command: rm -rf ivygapSE.buildbin-libdir && mkdir ivygapSE.buildbin-libdir && E:\biocbuild\bbs-3.19-bioc\R\bin\R.exe CMD INSTALL --build --library=ivygapSE.buildbin-libdir ivygapSE_1.26.0.tar.gz StartedAt: 2024-10-17 08:01:28 -0400 (Thu, 17 Oct 2024) EndedAt: 2024-10-17 08:02:00 -0400 (Thu, 17 Oct 2024) EllapsedTime: 32.5 seconds RetCode: 0 Status: OK PackageFile: ivygapSE_1.26.0.zip PackageFileSize: 15.31 MiB