Package: ivygapSE Version: 1.26.0 Command: chmod a+r ivygapSE -R && F:\biocbuild\bbs-3.19-bioc\R\bin\R.exe CMD build --keep-empty-dirs --no-resave-data ivygapSE StartedAt: 2024-06-26 19:41:19 -0400 (Wed, 26 Jun 2024) EndedAt: 2024-06-26 19:43:57 -0400 (Wed, 26 Jun 2024) EllapsedTime: 157.6 seconds RetCode: 0 Status: OK PackageFile: ivygapSE_1.26.0.tar.gz PackageFileSize: 15.28 MiB