Package: ivygapSE Version: 1.26.0 Command: rm -rf ivygapSE.buildbin-libdir && mkdir ivygapSE.buildbin-libdir && F:\biocbuild\bbs-3.19-bioc\R\bin\R.exe CMD INSTALL --build --library=ivygapSE.buildbin-libdir ivygapSE_1.26.0.tar.gz StartedAt: 2024-06-27 08:24:33 -0400 (Thu, 27 Jun 2024) EndedAt: 2024-06-27 08:25:13 -0400 (Thu, 27 Jun 2024) EllapsedTime: 40.2 seconds RetCode: 0 Status: OK PackageFile: ivygapSE_1.26.0.zip PackageFileSize: 15.31 MiB