Package: ivygapSE Version: 1.26.0 Command: /Library/Frameworks/R.framework/Resources/bin/R CMD INSTALL ivygapSE StartedAt: 2024-10-16 16:46:25 -0400 (Wed, 16 Oct 2024) EndedAt: 2024-10-16 16:47:19 -0400 (Wed, 16 Oct 2024) EllapsedTime: 54.7 seconds RetCode: 0 Status: OK